BEGIN:VCALENDAR
VERSION:2.0
PRODID:-//American Canyon CERT - ECPv6.15.20//NONSGML v1.0//EN
CALSCALE:GREGORIAN
METHOD:PUBLISH
X-WR-CALNAME:American Canyon CERT
X-ORIGINAL-URL:https://www.americancanyoncert.org
X-WR-CALDESC:Events for American Canyon CERT
REFRESH-INTERVAL;VALUE=DURATION:PT1H
X-Robots-Tag:noindex
X-PUBLISHED-TTL:PT1H
BEGIN:VTIMEZONE
TZID:America/Los_Angeles
BEGIN:DAYLIGHT
TZOFFSETFROM:-0800
TZOFFSETTO:-0700
TZNAME:PDT
DTSTART:20180311T100000
END:DAYLIGHT
BEGIN:STANDARD
TZOFFSETFROM:-0700
TZOFFSETTO:-0800
TZNAME:PST
DTSTART:20181104T090000
END:STANDARD
BEGIN:DAYLIGHT
TZOFFSETFROM:-0800
TZOFFSETTO:-0700
TZNAME:PDT
DTSTART:20190310T100000
END:DAYLIGHT
BEGIN:STANDARD
TZOFFSETFROM:-0700
TZOFFSETTO:-0800
TZNAME:PST
DTSTART:20191103T090000
END:STANDARD
BEGIN:DAYLIGHT
TZOFFSETFROM:-0800
TZOFFSETTO:-0700
TZNAME:PDT
DTSTART:20200308T100000
END:DAYLIGHT
BEGIN:STANDARD
TZOFFSETFROM:-0700
TZOFFSETTO:-0800
TZNAME:PST
DTSTART:20201101T090000
END:STANDARD
BEGIN:DAYLIGHT
TZOFFSETFROM:-0800
TZOFFSETTO:-0700
TZNAME:PDT
DTSTART:20210314T100000
END:DAYLIGHT
BEGIN:STANDARD
TZOFFSETFROM:-0700
TZOFFSETTO:-0800
TZNAME:PST
DTSTART:20211107T090000
END:STANDARD
END:VTIMEZONE
BEGIN:VEVENT
DTSTART;TZID=America/Los_Angeles:20200509T080000
DTEND;TZID=America/Los_Angeles:20200509T170000
DTSTAMP:20260420T200141
CREATED:20200214T235217Z
LAST-MODIFIED:20200215T004748Z
UID:635-1589011200-1589043600@www.americancanyoncert.org
SUMMARY:CERT basic training\, Day 1 (Class 20-98)
DESCRIPTION:Citizen Emergency Response Team (CERT)\nUp-Valley Area Class (20-98)\nDay 1 of 3 \nEmail napacert@aol.com to attend
URL:https://www.americancanyoncert.org/event/cert-basic-training-day-1-class-20-98/
LOCATION:Napa Valley College\, 2277 Napa Vallejo Hwy\, Napa\, CA\, 94558\, United States
CATEGORIES:Napa County CERT,Training
ORGANIZER;CN="Napa County CERT":MAILTO:napacert@aol.com
END:VEVENT
BEGIN:VEVENT
DTSTART;TZID=America/Los_Angeles:20200321T080000
DTEND;TZID=America/Los_Angeles:20200321T170000
DTSTAMP:20260420T200141
CREATED:20200317T025050Z
LAST-MODIFIED:20200317T025050Z
UID:936-1584777600-1584810000@www.americancanyoncert.org
SUMMARY:CERT basic training (Class 20-97) ***POSTPONED***
DESCRIPTION:***As a result of the Coronavirus pandemic\, this event has been postponed.  We will announce the new dates when the situation permits*** \nThis course was originally scheduled for: \nMarch 21 @ 8:00 am – 5:00 pm PDT\nMarch 28 @ 8:00 am – 5:00 pm PDT\nMarch 29 @ 8:00 am – 12:00 pm PDT
URL:https://www.americancanyoncert.org/event/cert-basic-training-class-20-97-postponed/
LOCATION:Fire Station / AC Command Post\, 225 James Road\, American Canyon\, CA\, 94503\, United States
CATEGORIES:Napa County CERT,Training
ORGANIZER;CN="Napa County CERT":MAILTO:napacert@aol.com
END:VEVENT
BEGIN:VEVENT
DTSTART;TZID=America/Los_Angeles:20200222T080000
DTEND;TZID=America/Los_Angeles:20200222T120000
DTSTAMP:20260420T200141
CREATED:20200214T225913Z
LAST-MODIFIED:20200222T024651Z
UID:612-1582358400-1582372800@www.americancanyoncert.org
SUMMARY:CERT Skills Update
DESCRIPTION:Join us for the Annual CERT Skills Update at Napa Valley College Campus\, Building 1200 (Little Theater)\nTo attend you must have completed your CERT Basic training class.\nPlease RSVP to Ken Arnold napacert@aol.com \nHere are a few things to remember: \n– Act appropriately and responsibly at all times.\n– Push your skills\, but don’t overdo it with your body.\n– Registration will be between 0800 to 0830\, so please plan your arrival so you are checked in and ready to participate 0900.\n– At a minimum\, bring your CERT helmet and vest\, eye protection\, and work gloves.\n– Wear sturdy closed-toed shoes\, long pants\, and dress in layers!\n– Check the weather forecast so that you are ready to operate in the conditions of the day. \nCERT Skills Update 2020 Flyer \n  \n 
URL:https://www.americancanyoncert.org/event/cert-skills-update/
LOCATION:Napa Valley College\, Bldg 1200\, Napa Valley College - Building 1200 - Little Theater\, 2277 Napa Vallejo Hwy\, Napa\, CA\, 94558\, United States
CATEGORIES:Annual Training,Napa County CERT
ORGANIZER;CN="Napa County CERT":MAILTO:napacert@aol.com
END:VEVENT
BEGIN:VEVENT
DTSTART;TZID=America/Los_Angeles:20191019T080000
DTEND;TZID=America/Los_Angeles:20191019T130000
DTSTAMP:20260420T200141
CREATED:20190909T225524Z
LAST-MODIFIED:20191016T054742Z
UID:454-1571472000-1571490000@www.americancanyoncert.org
SUMMARY:Annual CERT Drill
DESCRIPTION:Annual CERT Drill
URL:https://www.americancanyoncert.org/event/annual-cert-drill/
LOCATION:County Fire Training Grounds\, 7294 Silverado Trail\, Napa\, CA\, 94558\, United States
CATEGORIES:Annual Training,Napa County CERT,Training
ORGANIZER;CN="American Canyon CERT":MAILTO:info@americancanyoncert.org
END:VEVENT
END:VCALENDAR